BEGIN:VCALENDAR
VERSION:2.0
PRODID:-//Masaka Diocese - ECPv6.15.20//NONSGML v1.0//EN
CALSCALE:GREGORIAN
METHOD:PUBLISH
X-ORIGINAL-URL:https://masakadiocese.org
X-WR-CALDESC:Events for Masaka Diocese
REFRESH-INTERVAL;VALUE=DURATION:PT1H
X-Robots-Tag:noindex
X-PUBLISHED-TTL:PT1H
BEGIN:VTIMEZONE
TZID:Africa/Kampala
BEGIN:STANDARD
TZOFFSETFROM:+0300
TZOFFSETTO:+0300
TZNAME:EAT
DTSTART:20220101T000000
END:STANDARD
END:VTIMEZONE
BEGIN:VEVENT
DTSTART;VALUE=DATE:20231012
DTEND;VALUE=DATE:20231014
DTSTAMP:20260423T153259
CREATED:20231003T060422Z
LAST-MODIFIED:20231008T143706Z
UID:6334-1697068800-1697241599@masakadiocese.org
SUMMARY:Diocesan Pastoral Council Executive
DESCRIPTION:
URL:https://masakadiocese.org/event/diocesan-pastoral-council-executive/
END:VEVENT
BEGIN:VEVENT
DTSTART;VALUE=DATE:20231009
DTEND;VALUE=DATE:20231010
DTSTAMP:20260423T153259
CREATED:20231003T055823Z
LAST-MODIFIED:20231008T143000Z
UID:6332-1696809600-1696895999@masakadiocese.org
SUMMARY:Indepedence Day
DESCRIPTION:The Diocese will together with the entire country celebrate the day of Independence for our motherland Uganda.
URL:https://masakadiocese.org/event/indepedence-day/
END:VEVENT
BEGIN:VEVENT
DTSTART;VALUE=DATE:20231008
DTEND;VALUE=DATE:20231009
DTSTAMP:20260423T153259
CREATED:20231003T055716Z
LAST-MODIFIED:20231003T055925Z
UID:6330-1696723200-1696809599@masakadiocese.org
SUMMARY:Pilgrimage to Kabula (Okulamaga e Kabula)
DESCRIPTION:Christians of Masaka Diocese will hold a pilgrimage to Our Lady of Mary in Kabula. Mass will be animated by Ssembabule Parish.
URL:https://masakadiocese.org/event/pilgrimage-to-kabula-okulamaga-e-kabula/
END:VEVENT
BEGIN:VEVENT
DTSTART;VALUE=DATE:20230929
DTEND;VALUE=DATE:20230930
DTSTAMP:20260423T153259
CREATED:20230905T130757Z
LAST-MODIFIED:20230905T130757Z
UID:6301-1695945600-1696031999@masakadiocese.org
SUMMARY:Abasomesa b'Eddiini aba Masaka Diocese bakuza olunaku Lwabwe
DESCRIPTION:
URL:https://masakadiocese.org/event/abasomesa-beddiini-aba-masaka-diocese-bakuza-olunaku-lwabwe/
LOCATION:Kitovu\, Uganda
END:VEVENT
BEGIN:VEVENT
DTSTART;VALUE=DATE:20230925
DTEND;VALUE=DATE:20230926
DTSTAMP:20260423T153259
CREATED:20230905T130556Z
LAST-MODIFIED:20230905T130556Z
UID:6298-1695600000-1695686399@masakadiocese.org
SUMMARY:Okukyala mu Rest House (Ssanje Deanary)
DESCRIPTION:
URL:https://masakadiocese.org/event/okukyala-mu-rest-house-ssanje-deanary/
LOCATION:Ssanje Deanary\, Uganda
END:VEVENT
BEGIN:VEVENT
DTSTART;VALUE=DATE:20230924
DTEND;VALUE=DATE:20230925
DTSTAMP:20260423T153259
CREATED:20230905T130413Z
LAST-MODIFIED:20230905T130413Z
UID:6296-1695513600-1695599999@masakadiocese.org
SUMMARY:Fundraising for Centenary Radio - Kitovu Deanery
DESCRIPTION:
URL:https://masakadiocese.org/event/fundraising-for-centenary-radio-kitovu-deanery/
LOCATION:Kitovu\, Uganda
END:VEVENT
BEGIN:VEVENT
DTSTART;VALUE=DATE:20230924
DTEND;VALUE=DATE:20230925
DTSTAMP:20260423T153259
CREATED:20230905T130245Z
LAST-MODIFIED:20230905T130245Z
UID:6294-1695513600-1695599999@masakadiocese.org
SUMMARY:Pilgrimage to Bruno Sserunkuuma - Ssaza Parish
DESCRIPTION:
URL:https://masakadiocese.org/event/pilgrimage-to-bruno-sserunkuuma-ssaza-parish/
END:VEVENT
BEGIN:VEVENT
DTSTART;VALUE=DATE:20230923
DTEND;VALUE=DATE:20230924
DTSTAMP:20260423T153259
CREATED:20230905T130100Z
LAST-MODIFIED:20230905T130100Z
UID:6291-1695427200-1695513599@masakadiocese.org
SUMMARY:Pilgrimage to Misaali at Padre Pio Prayer Centre
DESCRIPTION:
URL:https://masakadiocese.org/event/pilgrimage-to-misaali-at-padre-pio-prayer-centre/
LOCATION:Padre Pio Prayer Centre\, Misaali\, Masaka City\, Uganda
END:VEVENT
BEGIN:VEVENT
DTSTART;VALUE=DATE:20230922
DTEND;VALUE=DATE:20230923
DTSTAMP:20260423T153259
CREATED:20230905T125654Z
LAST-MODIFIED:20230905T125654Z
UID:6289-1695340800-1695427199@masakadiocese.org
SUMMARY:Maddo Engagement
DESCRIPTION:
URL:https://masakadiocese.org/event/maddo-engagement-2/
END:VEVENT
BEGIN:VEVENT
DTSTART;VALUE=DATE:20230918
DTEND;VALUE=DATE:20230919
DTSTAMP:20260423T153259
CREATED:20230905T125549Z
LAST-MODIFIED:20230905T125549Z
UID:6287-1694995200-1695081599@masakadiocese.org
SUMMARY:School Term III Begins
DESCRIPTION:
URL:https://masakadiocese.org/event/school-term-iii-begins/
END:VEVENT
BEGIN:VEVENT
DTSTART;VALUE=DATE:20230918
DTEND;VALUE=DATE:20230919
DTSTAMP:20260423T153259
CREATED:20230905T125506Z
LAST-MODIFIED:20230905T125506Z
UID:6284-1694995200-1695081599@masakadiocese.org
SUMMARY:Council yaba Sabakristu
DESCRIPTION:
URL:https://masakadiocese.org/event/council-yaba-sabakristu/
LOCATION:Ddungu Wing\, Kitovu Hill\, Uganda
END:VEVENT
BEGIN:VEVENT
DTSTART;TZID=Africa/Kampala:20230828T080000
DTEND;TZID=Africa/Kampala:20230828T170000
DTSTAMP:20260423T153259
CREATED:20230811T153629Z
LAST-MODIFIED:20230811T153629Z
UID:6153-1693209600-1693242000@masakadiocese.org
SUMMARY:Okukyala mu Rest House (Visit to the Rest House - Ssembabule Deanery)
DESCRIPTION:
URL:https://masakadiocese.org/event/okukyala-mu-rest-house-visit-to-the-rest-house-ssembabule-deanery/
END:VEVENT
BEGIN:VEVENT
DTSTART;TZID=Africa/Kampala:20230827T080000
DTEND;TZID=Africa/Kampala:20230827T170000
DTSTAMP:20260423T153259
CREATED:20230811T153450Z
LAST-MODIFIED:20230811T153450Z
UID:6151-1693123200-1693155600@masakadiocese.org
SUMMARY:Olunaku lw'Abafumbo (Married Couples Day)
DESCRIPTION:
URL:https://masakadiocese.org/event/olunaku-lwabafumbo-married-couples-day/
END:VEVENT
BEGIN:VEVENT
DTSTART;TZID=Africa/Kampala:20230820T080000
DTEND;TZID=Africa/Kampala:20230820T170000
DTSTAMP:20260423T153259
CREATED:20230811T153335Z
LAST-MODIFIED:20230811T153335Z
UID:6149-1692518400-1692550800@masakadiocese.org
SUMMARY:Meeting ya Sister Amedeo
DESCRIPTION:
URL:https://masakadiocese.org/event/meeting-ya-sister-amedeo/
END:VEVENT
BEGIN:VEVENT
DTSTART;VALUE=DATE:20230818
DTEND;VALUE=DATE:20230819
DTSTAMP:20260423T153259
CREATED:20230811T153304Z
LAST-MODIFIED:20230811T153304Z
UID:6147-1692316800-1692403199@masakadiocese.org
SUMMARY:Maddo Engagement
DESCRIPTION:
URL:https://masakadiocese.org/event/maddo-engagement/
END:VEVENT
BEGIN:VEVENT
DTSTART;VALUE=DATE:20230817
DTEND;VALUE=DATE:20230821
DTSTAMP:20260423T153259
CREATED:20230811T153226Z
LAST-MODIFIED:20230811T153226Z
UID:6145-1692230400-1692575999@masakadiocese.org
SUMMARY:Olusirika lw'abaana abalenzi aba Senior (Retreat for Senior Secondary Students)
DESCRIPTION:
URL:https://masakadiocese.org/event/olusirika-lwabaana-abalenzi-aba-senior-retreat-for-senior-secondary-students/
END:VEVENT
BEGIN:VEVENT
DTSTART;VALUE=DATE:20230813
DTEND;VALUE=DATE:20230814
DTSTAMP:20260423T153259
CREATED:20230811T152935Z
LAST-MODIFIED:20230811T152935Z
UID:6143-1691884800-1691971199@masakadiocese.org
SUMMARY:Sister Amedeo Day
DESCRIPTION:
URL:https://masakadiocese.org/event/sister-amedeo-day/
END:VEVENT
BEGIN:VEVENT
DTSTART;TZID=Africa/Kampala:20230812T093000
DTEND;TZID=Africa/Kampala:20230812T150000
DTSTAMP:20260423T153259
CREATED:20230811T152112Z
LAST-MODIFIED:20230811T152137Z
UID:6139-1691832600-1691852400@masakadiocese.org
SUMMARY:Priestly and Diaconate Ordination
DESCRIPTION:The Bishop of Masaka Diocese\, Rt. Rev. Serverus Jjumba will confer the sacrament of ordination to 20 deacons and 16 seminarians on Saturday 12th August 2023 at Our Lady of Sorrows Cathedral in Kitovu starting at 9:30am.
URL:https://masakadiocese.org/event/priestly-and-diaconate-ordination/
LOCATION:Our Lady of Sorrows Cathedral\, Kitovu\, Kitovu Hill\, Masaka\, Central\, 256\, Uganda
END:VEVENT
BEGIN:VEVENT
DTSTART;VALUE=DATE:20230731
DTEND;VALUE=DATE:20230801
DTSTAMP:20260423T153259
CREATED:20230630T074104Z
LAST-MODIFIED:20230630T074104Z
UID:5832-1690761600-1690847999@masakadiocese.org
SUMMARY:Okukyala mu Rest House (Biikira Deanery)
DESCRIPTION:
URL:https://masakadiocese.org/event/okukyala-mu-rest-house-biikira-deanery/
END:VEVENT
BEGIN:VEVENT
DTSTART;VALUE=DATE:20230730
DTEND;VALUE=DATE:20230731
DTSTAMP:20260423T153259
CREATED:20230630T074017Z
LAST-MODIFIED:20230630T074017Z
UID:5830-1690675200-1690761599@masakadiocese.org
SUMMARY:Masaka-Kampala Community Quarterly Mass
DESCRIPTION:
URL:https://masakadiocese.org/event/masaka-kampala-community-quarterly-mass-2/
LOCATION:Bishop Ddungu Memorial Gardens\, Ggogonya\, Nsambya\, Kampala City\, Central Region\, 256\, Uganda
END:VEVENT
BEGIN:VEVENT
DTSTART;VALUE=DATE:20230730
DTEND;VALUE=DATE:20230731
DTSTAMP:20260423T153259
CREATED:20230630T073835Z
LAST-MODIFIED:20230630T073835Z
UID:5828-1690675200-1690761599@masakadiocese.org
SUMMARY:Diocesan Youth Day
DESCRIPTION:
URL:https://masakadiocese.org/event/diocesan-youth-day/
LOCATION:All Parishes in the Diocese\, Uganda
END:VEVENT
BEGIN:VEVENT
DTSTART;VALUE=DATE:20230723
DTEND;VALUE=DATE:20230724
DTSTAMP:20260423T153259
CREATED:20230630T073722Z
LAST-MODIFIED:20230630T073722Z
UID:5826-1690070400-1690156799@masakadiocese.org
SUMMARY:Sunday y'Abakadde wonna Mu Ssaza
DESCRIPTION:
URL:https://masakadiocese.org/event/sunday-yabakadde-wonna-mu-ssaza/
LOCATION:All Parishes in the Diocese\, Uganda
END:VEVENT
BEGIN:VEVENT
DTSTART;VALUE=DATE:20230722
DTEND;VALUE=DATE:20230723
DTSTAMP:20260423T153259
CREATED:20230630T073611Z
LAST-MODIFIED:20230630T073611Z
UID:5824-1689984000-1690070399@masakadiocese.org
SUMMARY:Mugigi Final Examination
DESCRIPTION:
URL:https://masakadiocese.org/event/mugigi-final-examination/
END:VEVENT
BEGIN:VEVENT
DTSTART;VALUE=DATE:20230716
DTEND;VALUE=DATE:20230717
DTSTAMP:20260423T153259
CREATED:20230630T073510Z
LAST-MODIFIED:20230630T073525Z
UID:5821-1689465600-1689551999@masakadiocese.org
SUMMARY:Okusonda Sente za Centenary Radio (Kijjukizo Deanery)
DESCRIPTION:
URL:https://masakadiocese.org/event/okusaonda-sente-za-centenary-radio-kijjukizo-deanery/
END:VEVENT
BEGIN:VEVENT
DTSTART;VALUE=DATE:20230713
DTEND;VALUE=DATE:20230714
DTSTAMP:20260423T153259
CREATED:20230630T073356Z
LAST-MODIFIED:20230630T073356Z
UID:5819-1689206400-1689292799@masakadiocese.org
SUMMARY:Okulamaga ewa Sitenseera e Villa Maria
DESCRIPTION:
URL:https://masakadiocese.org/event/okulamaga-ewa-sitenseera-e-villa-maria/
END:VEVENT
BEGIN:VEVENT
DTSTART;VALUE=DATE:20230711
DTEND;VALUE=DATE:20230712
DTSTAMP:20260423T153259
CREATED:20230630T073246Z
LAST-MODIFIED:20230630T073246Z
UID:5817-1689033600-1689119999@masakadiocese.org
SUMMARY:World Population Day
DESCRIPTION:
URL:https://masakadiocese.org/event/world-population-day/
END:VEVENT
BEGIN:VEVENT
DTSTART;VALUE=DATE:20230709
DTEND;VALUE=DATE:20230710
DTSTAMP:20260423T153259
CREATED:20230630T073203Z
LAST-MODIFIED:20230630T073203Z
UID:5815-1688860800-1688947199@masakadiocese.org
SUMMARY:Missionary Childhood Sunday
DESCRIPTION:Tusonda sente za Butume bwa Baana
URL:https://masakadiocese.org/event/missionary-childhood-sunday/
END:VEVENT
BEGIN:VEVENT
DTSTART;VALUE=DATE:20230706
DTEND;VALUE=DATE:20230707
DTSTAMP:20260423T153259
CREATED:20230630T072905Z
LAST-MODIFIED:20230630T073030Z
UID:5806-1688601600-1688687999@masakadiocese.org
SUMMARY:Lunaku Lwa Musumba Waffe (Bishops 4th Anniversary Celebration)
DESCRIPTION:The ceremonies to mark the 4th year anniversary of the consecration of Rt. Rev. Bishop Serverus Jjumba as the Ordinary of Masaka Diocese will take place on Thursday 6th July 2023 at Bukulula Parish.  \nThe occasion will commence with a celebration of mass at 10:00 am ed by the Bishop. All are welcome to celebrate the day with the Ordinary of Masaka Diocese
URL:https://masakadiocese.org/event/lunaku-lwa-musumba-waffe-bishops-4th-anniversary-celebration/
LOCATION:Bukulula Parish\, Uganda
END:VEVENT
BEGIN:VEVENT
DTSTART;VALUE=DATE:20230704
DTEND;VALUE=DATE:20230706
DTSTAMP:20260423T153259
CREATED:20230703T110945Z
LAST-MODIFIED:20230704T073322Z
UID:5834-1688428800-1688601599@masakadiocese.org
SUMMARY:Ex-Internationals visit Masaka Diocese
DESCRIPTION:On the 4th and 5th of July\, Masaka Diocese will host the Ex-Internationals (former Uganda Cranes players).  \nOn arrival at 04:00pm\, Tuesday 4th July 2023\, they will visit Archbishop Senior Secondary School in Kitovu and have a talk with the students. Later in the day at 06:00 pm they will visit the Ordinary of Masaka Diocese\, Msgr. Serverus Jjumba at the Curia. \nOn Wednesday 5th July 2023\, they will carry out a clean-up exercise in Nyendo and later in the afternoon will play a friendly match with Masaka Diocese Priest Football Club. All well-wishers are welcome to the activity.
URL:https://masakadiocese.org/event/ex-internationals-visit-masaka-diocese/
LOCATION:Kitovu\, Uganda
END:VEVENT
BEGIN:VEVENT
DTSTART;VALUE=DATE:20230702
DTEND;VALUE=DATE:20230703
DTSTAMP:20260423T153259
CREATED:20230630T071910Z
LAST-MODIFIED:20230630T071910Z
UID:5804-1688256000-1688342399@masakadiocese.org
SUMMARY:Okulamaga e Birinzi (Abasajja n'abe'kibiina ky'Omutima gwa Yezu)
DESCRIPTION:
URL:https://masakadiocese.org/event/okulamaga-e-birinzi-abasajja-nabekibiina-kyomutima-gwa-yezu/
END:VEVENT
END:VCALENDAR