BEGIN:VCALENDAR
VERSION:2.0
PRODID:-//Masaka Diocese - ECPv6.15.20//NONSGML v1.0//EN
CALSCALE:GREGORIAN
METHOD:PUBLISH
X-ORIGINAL-URL:https://masakadiocese.org
X-WR-CALDESC:Events for Masaka Diocese
REFRESH-INTERVAL;VALUE=DURATION:PT1H
X-Robots-Tag:noindex
X-PUBLISHED-TTL:PT1H
BEGIN:VTIMEZONE
TZID:Africa/Kampala
BEGIN:STANDARD
TZOFFSETFROM:+0300
TZOFFSETTO:+0300
TZNAME:EAT
DTSTART:20220101T000000
END:STANDARD
END:VTIMEZONE
BEGIN:VEVENT
DTSTART;TZID=Africa/Kampala:20240318T080000
DTEND;TZID=Africa/Kampala:20240318T170000
DTSTAMP:20260423T090529
CREATED:20240309T173713Z
LAST-MODIFIED:20240309T173714Z
UID:8088-1710748800-1710781200@masakadiocese.org
SUMMARY:Meeting Ya Msgr. Ngobya
DESCRIPTION:Meeting
URL:https://masakadiocese.org/event/meeting-ya-msgr-ngobya/
END:VEVENT
BEGIN:VEVENT
DTSTART;VALUE=DATE:20240310
DTEND;VALUE=DATE:20240311
DTSTAMP:20260423T090529
CREATED:20240225T114057Z
LAST-MODIFIED:20240225T114057Z
UID:8047-1710028800-1710115199@masakadiocese.org
SUMMARY:St. Jude Thaddeus Parish in Lukaya celebrates 25 years
DESCRIPTION:St. Jude Thaddeus Parish in Lukaya will celebrate its Silver Jubilee.
URL:https://masakadiocese.org/event/st-jude-thaddeus-parish-in-lukaya-celebrates-25-years/
END:VEVENT
BEGIN:VEVENT
DTSTART;VALUE=DATE:20240308
DTEND;VALUE=DATE:20240309
DTSTAMP:20260423T090529
CREATED:20240225T113335Z
LAST-MODIFIED:20240225T113335Z
UID:8041-1709856000-1709942399@masakadiocese.org
SUMMARY:International Women’s Day
DESCRIPTION:The International Women’s Day will be marked all around the Diocese with mass for Women in all parishes.
URL:https://masakadiocese.org/event/international-womens-day/
END:VEVENT
BEGIN:VEVENT
DTSTART;VALUE=DATE:20240306
DTEND;VALUE=DATE:20240307
DTSTAMP:20260423T090529
CREATED:20240225T113603Z
LAST-MODIFIED:20240225T113603Z
UID:8044-1709683200-1709769599@masakadiocese.org
SUMMARY:Dedication of Nazareth Parish Church
DESCRIPTION:Nazareth Parish will hold a ceremony to dedicate the Church on the feast of Our Lady of Nazareth.
URL:https://masakadiocese.org/event/dedication-of-nazareth-parish-church/
END:VEVENT
BEGIN:VEVENT
DTSTART;VALUE=DATE:20240223
DTEND;VALUE=DATE:20240224
DTSTAMP:20260423T090529
CREATED:20240203T144649Z
LAST-MODIFIED:20240216T055129Z
UID:7907-1708646400-1708732799@masakadiocese.org
SUMMARY:Parish Secretaries Workshop
DESCRIPTION:
URL:https://masakadiocese.org/event/parish-secretaries-workshop/
END:VEVENT
BEGIN:VEVENT
DTSTART;VALUE=DATE:20240218
DTEND;VALUE=DATE:20240219
DTSTAMP:20260423T090529
CREATED:20240203T144340Z
LAST-MODIFIED:20240213T075055Z
UID:7905-1708214400-1708300799@masakadiocese.org
SUMMARY:Pilgrimage to Bugoma
DESCRIPTION:Each year the Diocese of Masaka organizes a pilgrimage to Bugoma where the first Catholic Missionaries Father Siméon Lourdel Pere (Mapeera) and Brother Amans Delmas (Amansi) first landed\, on the Ugandan land on February 15\, 1879.
URL:https://masakadiocese.org/event/pilgrimage-to-bugoma/
ATTACH;FMTTYPE=image/jpeg:https://masakadiocese.org/wp-content/uploads/2023/02/IMG_0137-scaled.jpg
END:VEVENT
BEGIN:VEVENT
DTSTART;TZID=Africa/Kampala:20240215T080000
DTEND;TZID=Africa/Kampala:20240215T170000
DTSTAMP:20260423T090529
CREATED:20240203T143729Z
LAST-MODIFIED:20240213T074945Z
UID:7902-1707984000-1708016400@masakadiocese.org
SUMMARY:Doctrinal Meeting
DESCRIPTION:
URL:https://masakadiocese.org/event/doctrinal-meeting/
END:VEVENT
BEGIN:VEVENT
DTSTART;VALUE=DATE:20240214
DTEND;VALUE=DATE:20240215
DTSTAMP:20260423T090529
CREATED:20240203T143346Z
LAST-MODIFIED:20240206T035902Z
UID:7899-1707868800-1707955199@masakadiocese.org
SUMMARY:Ash Wednesday
DESCRIPTION:Catholics all around the World will be commencing the Lenten Period on Ash Wednesday. This season marks  a 40 day fasting period for Christians.
URL:https://masakadiocese.org/event/ash-wednesday/
ATTACH;FMTTYPE=image/jpeg:https://masakadiocese.org/wp-content/uploads/2023/02/Bishop_Ash.jpg
END:VEVENT
BEGIN:VEVENT
DTSTART;VALUE=DATE:20240212
DTEND;VALUE=DATE:20240213
DTSTAMP:20260423T090529
CREATED:20240203T143015Z
LAST-MODIFIED:20240205T075638Z
UID:7896-1707696000-1707782399@masakadiocese.org
SUMMARY:Laity Executive Meeting
DESCRIPTION:The Laity Executive Meeting of Masaka Diocese will meet at Kitovu.
URL:https://masakadiocese.org/event/laity-executive-meeting/
END:VEVENT
BEGIN:VEVENT
DTSTART;VALUE=DATE:20240211
DTEND;VALUE=DATE:20240212
DTSTAMP:20260423T090529
CREATED:20240203T142215Z
LAST-MODIFIED:20240205T074143Z
UID:7893-1707609600-1707695999@masakadiocese.org
SUMMARY:World Day of the Sick
DESCRIPTION:The World Day of the Sick will be commemorated at Busibo Parish in St.Peter’s Health centre III. Busibo is located in Lwengo District Kyazanga Sub-county\, Katuulo Parish\, and Village Busibo. It is located around 13 KM away from Kyazanga along Bijjaba road.
URL:https://masakadiocese.org/event/world-day-of-the-sick/
ATTACH;FMTTYPE=image/jpeg:https://masakadiocese.org/wp-content/uploads/2024/02/StPeters-Medical-Centre2.jpg
END:VEVENT
BEGIN:VEVENT
DTSTART;TZID=Africa/Kampala:20240205T080000
DTEND;TZID=Africa/Kampala:20240205T130000
DTSTAMP:20260423T090529
CREATED:20240203T141436Z
LAST-MODIFIED:20240203T141436Z
UID:7889-1707120000-1707138000@masakadiocese.org
SUMMARY:Parish Priests' Meeting at Kitovu
DESCRIPTION:
URL:https://masakadiocese.org/event/parish-priests-meeting-at-kitovu/
END:VEVENT
BEGIN:VEVENT
DTSTART;VALUE=DATE:20240205
DTEND;VALUE=DATE:20240206
DTSTAMP:20260423T090529
CREATED:20240203T141632Z
LAST-MODIFIED:20240203T141632Z
UID:7891-1707091200-1707177599@masakadiocese.org
SUMMARY:Term 1 on School Calendar Begins
DESCRIPTION:
URL:https://masakadiocese.org/event/term-1-on-school-calendar-begins/
END:VEVENT
BEGIN:VEVENT
DTSTART;VALUE=DATE:20240204
DTEND;VALUE=DATE:20240205
DTSTAMP:20260423T090529
CREATED:20240203T141113Z
LAST-MODIFIED:20240203T144922Z
UID:7887-1707004800-1707091199@masakadiocese.org
SUMMARY:Lunaku lwa Basajja wonna ku Deanery
DESCRIPTION:
URL:https://masakadiocese.org/event/lunaku-lwa-basajja-wonna-ku-deanery/
ATTACH;FMTTYPE=image/jpeg:https://masakadiocese.org/wp-content/uploads/2023/03/IMG_5118-scaled.jpg
END:VEVENT
BEGIN:VEVENT
DTSTART;VALUE=DATE:20240128
DTEND;VALUE=DATE:20240129
DTSTAMP:20260423T090529
CREATED:20240126T061658Z
LAST-MODIFIED:20240126T063413Z
UID:7821-1706400000-1706486399@masakadiocese.org
SUMMARY:Pilgrimage in Minziiro
DESCRIPTION:Masaka Diocese will hold a yearly pilgrimage to St. Yoanna Maria Muzeyi shrine located in Minziro in Nazareth Parish. Mass will be led by the Bishop of Masaka Diocese\, Rt. Rev. Serverus Jjumba.
URL:https://masakadiocese.org/event/pilgrimage-in-minziiro/
LOCATION:Minziiro\, Nazareth\, Uganda
ATTACH;FMTTYPE=image/jpeg:https://masakadiocese.org/wp-content/uploads/2023/11/Pilgrims_edited.jpg
END:VEVENT
BEGIN:VEVENT
DTSTART;TZID=Africa/Kampala:20240127T080000
DTEND;TZID=Africa/Kampala:20240129T170000
DTSTAMP:20260423T090529
CREATED:20240126T070822Z
LAST-MODIFIED:20240126T072137Z
UID:7836-1706342400-1706547600@masakadiocese.org
SUMMARY:Olusirika lwa ba Ssabakristu n'abawanika ba Parishes
DESCRIPTION:
URL:https://masakadiocese.org/event/olusirika-lwa-ba-ssabakristu-nabawanika-ba-parishes/
END:VEVENT
BEGIN:VEVENT
DTSTART;TZID=Africa/Kampala:20231231T080000
DTEND;TZID=Africa/Kampala:20231231T170000
DTSTAMP:20260423T090529
CREATED:20231215T080340Z
LAST-MODIFIED:20231215T080340Z
UID:7061-1704009600-1704042000@masakadiocese.org
SUMMARY:Sunday ya Bafumbo
DESCRIPTION:
URL:https://masakadiocese.org/event/sunday-ya-bafumbo/
END:VEVENT
BEGIN:VEVENT
DTSTART;TZID=Africa/Kampala:20231230T080000
DTEND;TZID=Africa/Kampala:20231230T170000
DTSTAMP:20260423T090529
CREATED:20231215T075919Z
LAST-MODIFIED:20231215T075919Z
UID:7056-1703923200-1703955600@masakadiocese.org
SUMMARY:Cathedral Foundation Meeting - Sports Arena
DESCRIPTION:
URL:https://masakadiocese.org/event/cathedral-foundation-meeting-sports-arena/
END:VEVENT
BEGIN:VEVENT
DTSTART;VALUE=DATE:20231230
DTEND;VALUE=DATE:20231231
DTSTAMP:20260423T090529
CREATED:20231215T080121Z
LAST-MODIFIED:20231215T080121Z
UID:7059-1703894400-1703980799@masakadiocese.org
SUMMARY:Okusabira Abepiskoopi bonna ab'Essaza Lyaffe Abaafa
DESCRIPTION:
URL:https://masakadiocese.org/event/okusabira-abepiskoopi-bonna-abessaza-lyaffe-abaafa/
END:VEVENT
BEGIN:VEVENT
DTSTART;VALUE=DATE:20231228
DTEND;VALUE=DATE:20231229
DTSTAMP:20260423T090529
CREATED:20231215T075816Z
LAST-MODIFIED:20231215T075816Z
UID:7054-1703721600-1703807999@masakadiocese.org
SUMMARY:Child Safeguarding Program in Diocesan Parishes
DESCRIPTION:
URL:https://masakadiocese.org/event/child-safeguarding-program-in-diocesan-parishes/
END:VEVENT
BEGIN:VEVENT
DTSTART;VALUE=DATE:20231226
DTEND;VALUE=DATE:20231227
DTSTAMP:20260423T090529
CREATED:20231215T075718Z
LAST-MODIFIED:20231215T075718Z
UID:7052-1703548800-1703635199@masakadiocese.org
SUMMARY:Boxing Day
DESCRIPTION:
URL:https://masakadiocese.org/event/boxing-day/
END:VEVENT
BEGIN:VEVENT
DTSTART;VALUE=DATE:20231225
DTEND;VALUE=DATE:20231226
DTSTAMP:20260423T090529
CREATED:20231215T075633Z
LAST-MODIFIED:20231224T032429Z
UID:7050-1703462400-1703548799@masakadiocese.org
SUMMARY:Christmas Day
DESCRIPTION:
URL:https://masakadiocese.org/event/christmas-day/
END:VEVENT
BEGIN:VEVENT
DTSTART;VALUE=DATE:20231224
DTEND;VALUE=DATE:20231225
DTSTAMP:20260423T090529
CREATED:20231215T075536Z
LAST-MODIFIED:20231224T032338Z
UID:7048-1703376000-1703462399@masakadiocese.org
SUMMARY:Christmas Vigil Mass
DESCRIPTION:
URL:https://masakadiocese.org/event/christmas-vigil-mass/
END:VEVENT
BEGIN:VEVENT
DTSTART;VALUE=DATE:20231220
DTEND;VALUE=DATE:20231221
DTSTAMP:20260423T090529
CREATED:20231215T075428Z
LAST-MODIFIED:20231215T075448Z
UID:7046-1703030400-1703116799@masakadiocese.org
SUMMARY:Maddo Engagement
DESCRIPTION:
URL:https://masakadiocese.org/event/maddo-engagement-4/
END:VEVENT
BEGIN:VEVENT
DTSTART;VALUE=DATE:20231218
DTEND;VALUE=DATE:20231219
DTSTAMP:20260423T090529
CREATED:20231215T075315Z
LAST-MODIFIED:20231215T075341Z
UID:7044-1702857600-1702943999@masakadiocese.org
SUMMARY:Okukyala mu Rest House e Kyazanga Deanery
DESCRIPTION:
URL:https://masakadiocese.org/event/okukyala-mu-rest-house-e-kyazanga-deanery/
END:VEVENT
BEGIN:VEVENT
DTSTART;TZID=Africa/Kampala:20231217T140000
DTEND;TZID=Africa/Kampala:20231217T190000
DTSTAMP:20260423T090529
CREATED:20231211T075651Z
LAST-MODIFIED:20231211T075651Z
UID:7040-1702821600-1702839600@masakadiocese.org
SUMMARY:Christmas Carols - Cathedral Joint Choir
DESCRIPTION:
URL:https://masakadiocese.org/event/christmas-carols-cathedral-joint-choir/
END:VEVENT
BEGIN:VEVENT
DTSTART;VALUE=DATE:20231211
DTEND;VALUE=DATE:20231212
DTSTAMP:20260423T090529
CREATED:20231211T075441Z
LAST-MODIFIED:20231211T075442Z
UID:7038-1702252800-1702339199@masakadiocese.org
SUMMARY:AMDP Day
DESCRIPTION:
URL:https://masakadiocese.org/event/amdp-day/
END:VEVENT
BEGIN:VEVENT
DTSTART;VALUE=DATE:20231201
DTEND;VALUE=DATE:20231202
DTSTAMP:20260423T090529
CREATED:20231129T044059Z
LAST-MODIFIED:20231129T044059Z
UID:7027-1701388800-1701475199@masakadiocese.org
SUMMARY:School Term III Ends
DESCRIPTION:
URL:https://masakadiocese.org/event/school-term-iii-ends/
END:VEVENT
BEGIN:VEVENT
DTSTART;VALUE=DATE:20231201
DTEND;VALUE=DATE:20231202
DTSTAMP:20260423T090529
CREATED:20231129T043932Z
LAST-MODIFIED:20231129T043933Z
UID:7025-1701388800-1701475199@masakadiocese.org
SUMMARY:World Aids Day
DESCRIPTION:
URL:https://masakadiocese.org/event/world-aids-day/
END:VEVENT
BEGIN:VEVENT
DTSTART;TZID=Africa/Kampala:20231130T080000
DTEND;TZID=Africa/Kampala:20231203T170000
DTSTAMP:20260423T090529
CREATED:20231128T062513Z
LAST-MODIFIED:20231128T062513Z
UID:7022-1701331200-1701622800@masakadiocese.org
SUMMARY:Kibeho Holyland Pilgrimage
DESCRIPTION:
URL:https://masakadiocese.org/event/kibeho-holyland-pilgrimage/
END:VEVENT
BEGIN:VEVENT
DTSTART;VALUE=DATE:20231126
DTEND;VALUE=DATE:20231127
DTSTAMP:20260423T090529
CREATED:20231109T062638Z
LAST-MODIFIED:20231121T161517Z
UID:6985-1700956800-1701043199@masakadiocese.org
SUMMARY:Masaka Diocesan Day
DESCRIPTION:
URL:https://masakadiocese.org/event/masaka-diocesan-day/
END:VEVENT
END:VCALENDAR