BEGIN:VCALENDAR
VERSION:2.0
PRODID:-//Masaka Diocese - ECPv6.15.20//NONSGML v1.0//EN
CALSCALE:GREGORIAN
METHOD:PUBLISH
X-ORIGINAL-URL:https://masakadiocese.org
X-WR-CALDESC:Events for Masaka Diocese
REFRESH-INTERVAL;VALUE=DURATION:PT1H
X-Robots-Tag:noindex
X-PUBLISHED-TTL:PT1H
BEGIN:VTIMEZONE
TZID:Africa/Kampala
BEGIN:STANDARD
TZOFFSETFROM:+0300
TZOFFSETTO:+0300
TZNAME:EAT
DTSTART:20220101T000000
END:STANDARD
END:VTIMEZONE
BEGIN:VEVENT
DTSTART;VALUE=DATE:20230713
DTEND;VALUE=DATE:20230714
DTSTAMP:20260423T185853
CREATED:20230630T073356Z
LAST-MODIFIED:20230630T073356Z
UID:5819-1689206400-1689292799@masakadiocese.org
SUMMARY:Okulamaga ewa Sitenseera e Villa Maria
DESCRIPTION:
URL:https://masakadiocese.org/event/okulamaga-ewa-sitenseera-e-villa-maria/
END:VEVENT
BEGIN:VEVENT
DTSTART;VALUE=DATE:20230711
DTEND;VALUE=DATE:20230712
DTSTAMP:20260423T185853
CREATED:20230630T073246Z
LAST-MODIFIED:20230630T073246Z
UID:5817-1689033600-1689119999@masakadiocese.org
SUMMARY:World Population Day
DESCRIPTION:
URL:https://masakadiocese.org/event/world-population-day/
END:VEVENT
BEGIN:VEVENT
DTSTART;VALUE=DATE:20230709
DTEND;VALUE=DATE:20230710
DTSTAMP:20260423T185853
CREATED:20230630T073203Z
LAST-MODIFIED:20230630T073203Z
UID:5815-1688860800-1688947199@masakadiocese.org
SUMMARY:Missionary Childhood Sunday
DESCRIPTION:Tusonda sente za Butume bwa Baana
URL:https://masakadiocese.org/event/missionary-childhood-sunday/
END:VEVENT
BEGIN:VEVENT
DTSTART;VALUE=DATE:20230706
DTEND;VALUE=DATE:20230707
DTSTAMP:20260423T185853
CREATED:20230630T072905Z
LAST-MODIFIED:20230630T073030Z
UID:5806-1688601600-1688687999@masakadiocese.org
SUMMARY:Lunaku Lwa Musumba Waffe (Bishops 4th Anniversary Celebration)
DESCRIPTION:The ceremonies to mark the 4th year anniversary of the consecration of Rt. Rev. Bishop Serverus Jjumba as the Ordinary of Masaka Diocese will take place on Thursday 6th July 2023 at Bukulula Parish.  \nThe occasion will commence with a celebration of mass at 10:00 am ed by the Bishop. All are welcome to celebrate the day with the Ordinary of Masaka Diocese
URL:https://masakadiocese.org/event/lunaku-lwa-musumba-waffe-bishops-4th-anniversary-celebration/
LOCATION:Bukulula Parish\, Uganda
END:VEVENT
BEGIN:VEVENT
DTSTART;VALUE=DATE:20230704
DTEND;VALUE=DATE:20230706
DTSTAMP:20260423T185853
CREATED:20230703T110945Z
LAST-MODIFIED:20230704T073322Z
UID:5834-1688428800-1688601599@masakadiocese.org
SUMMARY:Ex-Internationals visit Masaka Diocese
DESCRIPTION:On the 4th and 5th of July\, Masaka Diocese will host the Ex-Internationals (former Uganda Cranes players).  \nOn arrival at 04:00pm\, Tuesday 4th July 2023\, they will visit Archbishop Senior Secondary School in Kitovu and have a talk with the students. Later in the day at 06:00 pm they will visit the Ordinary of Masaka Diocese\, Msgr. Serverus Jjumba at the Curia. \nOn Wednesday 5th July 2023\, they will carry out a clean-up exercise in Nyendo and later in the afternoon will play a friendly match with Masaka Diocese Priest Football Club. All well-wishers are welcome to the activity.
URL:https://masakadiocese.org/event/ex-internationals-visit-masaka-diocese/
LOCATION:Kitovu\, Uganda
END:VEVENT
BEGIN:VEVENT
DTSTART;VALUE=DATE:20230702
DTEND;VALUE=DATE:20230703
DTSTAMP:20260423T185853
CREATED:20230630T071910Z
LAST-MODIFIED:20230630T071910Z
UID:5804-1688256000-1688342399@masakadiocese.org
SUMMARY:Okulamaga e Birinzi (Abasajja n'abe'kibiina ky'Omutima gwa Yezu)
DESCRIPTION:
URL:https://masakadiocese.org/event/okulamaga-e-birinzi-abasajja-nabekibiina-kyomutima-gwa-yezu/
END:VEVENT
BEGIN:VEVENT
DTSTART;VALUE=DATE:20230701
DTEND;VALUE=DATE:20230703
DTSTAMP:20260423T185853
CREATED:20230630T071350Z
LAST-MODIFIED:20230630T071556Z
UID:5798-1688169600-1688342399@masakadiocese.org
SUMMARY:Post Primary Schools Education Week Finals
DESCRIPTION:All the secondary schools that were victorious at deanery level in the various deaneries of Masaka Diocese will have a climax of the education week at Sports Arena\, Kitovu. Schools from 15 deaneries will converge for a long day competition to determine who will become victorious in the Diocese. \nA lot of prizes await the eventual winners of the competitions.
URL:https://masakadiocese.org/event/diocesan-secondary-schools-education-week-finals/
LOCATION:Sports Arena\, Kitovu\, Kitovu Hill\, Masaka City\, Central Region\, 256\, Uganda
END:VEVENT
BEGIN:VEVENT
DTSTART;VALUE=DATE:20230701
DTEND;VALUE=DATE:20230702
DTSTAMP:20260423T185853
CREATED:20230630T071733Z
LAST-MODIFIED:20230630T071733Z
UID:5802-1688169600-1688255999@masakadiocese.org
SUMMARY:International Day of Coperatives
DESCRIPTION:
URL:https://masakadiocese.org/event/international-day-of-coperatives/
END:VEVENT
BEGIN:VEVENT
DTSTART;VALUE=DATE:20230625
DTEND;VALUE=DATE:20230626
DTSTAMP:20260423T185853
CREATED:20230601T082736Z
LAST-MODIFIED:20230601T082736Z
UID:5646-1687651200-1687737599@masakadiocese.org
SUMMARY:Kulamagga ewa Msgr Alozio Ngobya
DESCRIPTION:
URL:https://masakadiocese.org/event/kulamagga-ewa-msgr-alozio-ngobya/
LOCATION:Sports Arena\, Kitovu\, Kitovu Hill\, Masaka City\, Central Region\, 256\, Uganda
END:VEVENT
BEGIN:VEVENT
DTSTART;VALUE=DATE:20230624
DTEND;VALUE=DATE:20230625
DTSTAMP:20260423T185853
CREATED:20230601T081724Z
LAST-MODIFIED:20230618T221514Z
UID:5643-1687564800-1687651199@masakadiocese.org
SUMMARY:Primary Schools Diocesan Education Competitions
DESCRIPTION:All the primary schools that were victorious at deanery level in the various deaneries of Masaka Diocese will have a climax of the education week at Sports Arena\, Kitovu. Schools from 15 deaneries will converge for a long day competition to determine who represents Masaka District at the National Diocesan Education gala.
URL:https://masakadiocese.org/event/primary-schools-education-week/
LOCATION:Sports Arena\, Kitovu\, Kitovu Hill\, Masaka City\, Central Region\, 256\, Uganda
END:VEVENT
BEGIN:VEVENT
DTSTART;TZID=Africa/Kampala:20230623T080000
DTEND;TZID=Africa/Kampala:20230623T160000
DTSTAMP:20260423T185853
CREATED:20230601T073130Z
LAST-MODIFIED:20230601T073130Z
UID:5640-1687507200-1687536000@masakadiocese.org
SUMMARY:Launching the Laity Cooperative
DESCRIPTION:
URL:https://masakadiocese.org/event/launching-the-laity-cooperative/
LOCATION:Kitovu\, Uganda
END:VEVENT
BEGIN:VEVENT
DTSTART;VALUE=DATE:20230617
DTEND;VALUE=DATE:20230618
DTSTAMP:20260423T185853
CREATED:20230601T072957Z
LAST-MODIFIED:20230617T053133Z
UID:5638-1686960000-1687046399@masakadiocese.org
SUMMARY:Education Week - Deanery Level
DESCRIPTION:The Deaneries of Kitovu\, Kasozi\, Kabuwoko\, Katimba\, Buyoga\, Villa Maria\, Kitaasa and Bukulula will hold Education Week competitions for Primary and Secondary Schools within their regions. Each deanery will hold the function at one designated parish where all the schools will congregate.
URL:https://masakadiocese.org/event/education-week-deanery-level-2/
END:VEVENT
BEGIN:VEVENT
DTSTART;VALUE=DATE:20230616
DTEND;VALUE=DATE:20230617
DTSTAMP:20260423T185853
CREATED:20230601T070827Z
LAST-MODIFIED:20230601T070827Z
UID:5636-1686873600-1686959999@masakadiocese.org
SUMMARY:Maddo Board Engagement
DESCRIPTION:
URL:https://masakadiocese.org/event/maddo-board-engagement/
END:VEVENT
BEGIN:VEVENT
DTSTART;VALUE=DATE:20230616
DTEND;VALUE=DATE:20230617
DTSTAMP:20260423T185853
CREATED:20230601T070739Z
LAST-MODIFIED:20230601T070739Z
UID:5634-1686873600-1686959999@masakadiocese.org
SUMMARY:Day of the African Child
DESCRIPTION:
URL:https://masakadiocese.org/event/day-of-the-african-child/
END:VEVENT
BEGIN:VEVENT
DTSTART;VALUE=DATE:20230616
DTEND;VALUE=DATE:20230617
DTSTAMP:20260423T185853
CREATED:20230601T070649Z
LAST-MODIFIED:20230601T070649Z
UID:5632-1686873600-1686959999@masakadiocese.org
SUMMARY:Education Week - Deanery Level
DESCRIPTION:The districts of Kalangala\, Kyotera\, Lyantonde and Rakai will mark the education week in Masaka Diocese. 
URL:https://masakadiocese.org/event/education-week-deanery-level/
END:VEVENT
BEGIN:VEVENT
DTSTART;VALUE=DATE:20230611
DTEND;VALUE=DATE:20230612
DTSTAMP:20260423T185853
CREATED:20230601T065607Z
LAST-MODIFIED:20230601T065607Z
UID:5630-1686441600-1686527999@masakadiocese.org
SUMMARY:Corpus Christi Day
DESCRIPTION:
URL:https://masakadiocese.org/event/corpus-christi-day/
LOCATION:All Parishes in the Diocese\, Uganda
END:VEVENT
BEGIN:VEVENT
DTSTART;VALUE=DATE:20230605
DTEND;VALUE=DATE:20230606
DTSTAMP:20260423T185853
CREATED:20230601T065425Z
LAST-MODIFIED:20230601T065425Z
UID:5628-1685923200-1686009599@masakadiocese.org
SUMMARY:World Environment Day
DESCRIPTION:To mark the World Environment Day across the diocese\, there will be a clean up exercise.
URL:https://masakadiocese.org/event/world-environment-day/
END:VEVENT
BEGIN:VEVENT
DTSTART;VALUE=DATE:20230604
DTEND;VALUE=DATE:20230605
DTSTAMP:20260423T185853
CREATED:20230601T065225Z
LAST-MODIFIED:20230601T065225Z
UID:5625-1685836800-1685923199@masakadiocese.org
SUMMARY:Trinity Sunday - Tusonda Ssente za Laity Commission mu Diocese
DESCRIPTION:
URL:https://masakadiocese.org/event/trinity-sunday-tusonda-ssente-za-laity-commission-mu-diocese/
LOCATION:All Parishes in the Diocese\, Uganda
END:VEVENT
BEGIN:VEVENT
DTSTART;VALUE=DATE:20230603
DTEND;VALUE=DATE:20230604
DTSTAMP:20260423T185853
CREATED:20230601T064759Z
LAST-MODIFIED:20230601T064759Z
UID:5622-1685750400-1685836799@masakadiocese.org
SUMMARY:Pilgrimage to Namugongo
DESCRIPTION:The Diocese of Jinja will animate mass at the pilgrimage of the Ugandan Catholic Martyrs due this Saturday 3rd June 2023.
URL:https://masakadiocese.org/event/pilgrimage-to-namugongo/
LOCATION:Uganda Martyrs Shrine Namugongo\, Uganda
END:VEVENT
BEGIN:VEVENT
DTSTART;TZID=Africa/Kampala:20230526T080000
DTEND;TZID=Africa/Kampala:20230526T170000
DTSTAMP:20260423T185853
CREATED:20230504T101203Z
LAST-MODIFIED:20230504T101316Z
UID:5540-1685088000-1685120400@masakadiocese.org
SUMMARY:Abasomesa ba Province balamaga e Munyonyo - ewa Anderea Kaggwa
DESCRIPTION:
URL:https://masakadiocese.org/event/abasomesa-ba-province-balamaga-e-munyonyo-ewa-anderea-kaggwa/
LOCATION:Munyonyo\, Kampala\, Central Region\, 256\, Uganda
END:VEVENT
BEGIN:VEVENT
DTSTART;TZID=Africa/Kampala:20230521T080000
DTEND;TZID=Africa/Kampala:20230521T170000
DTSTAMP:20260423T185853
CREATED:20230504T100906Z
LAST-MODIFIED:20230504T112720Z
UID:5538-1684656000-1684688400@masakadiocese.org
SUMMARY:Fundraising for Centenary Radio (Ssembabule Deanery)
DESCRIPTION:
URL:https://masakadiocese.org/event/fundraising-for-centenary-radio-ssembabule-deanery/
ATTACH;FMTTYPE=image/jpeg:https://masakadiocese.org/wp-content/uploads/2023/05/cropped-cropped-centenary.jpg
END:VEVENT
BEGIN:VEVENT
DTSTART;VALUE=DATE:20230520
DTEND;VALUE=DATE:20230521
DTSTAMP:20260423T185853
CREATED:20230504T100755Z
LAST-MODIFIED:20230504T100755Z
UID:5536-1684540800-1684627199@masakadiocese.org
SUMMARY:Mugigi Mock Examinations
DESCRIPTION:
URL:https://masakadiocese.org/event/mugigi-mock-examinations/
END:VEVENT
BEGIN:VEVENT
DTSTART;VALUE=DATE:20230515
DTEND;VALUE=DATE:20230516
DTSTAMP:20260423T185853
CREATED:20230504T100711Z
LAST-MODIFIED:20230504T100711Z
UID:5534-1684108800-1684195199@masakadiocese.org
SUMMARY:International Day of Families
DESCRIPTION:
URL:https://masakadiocese.org/event/international-day-of-families/
END:VEVENT
BEGIN:VEVENT
DTSTART;TZID=Africa/Kampala:20230514T080000
DTEND;TZID=Africa/Kampala:20230520T170000
DTSTAMP:20260423T185853
CREATED:20230504T100616Z
LAST-MODIFIED:20230504T100616Z
UID:5532-1684051200-1684602000@masakadiocese.org
SUMMARY:Priests Retreat to Bukalasa (Group Two)
DESCRIPTION:
URL:https://masakadiocese.org/event/priests-retreat-to-bukalasa-group-two/
LOCATION:Bukalasa Seminary\, P. O. Box 70\, Masaka\, Central Region\, 256\, Uganda
END:VEVENT
BEGIN:VEVENT
DTSTART;VALUE=DATE:20230511
DTEND;VALUE=DATE:20230515
DTSTAMP:20260423T185853
CREATED:20230504T095949Z
LAST-MODIFIED:20230504T095949Z
UID:5521-1683763200-1684108799@masakadiocese.org
SUMMARY:Olusiliika lw'Abaana abalenzi  aba Primary (Delta)
DESCRIPTION:
URL:https://masakadiocese.org/event/olusiliika-lwabaana-abalenzi-aba-primary-delta/
LOCATION:Delta\, Bukalasa\, Masaka\, Central Region\, 256\, Uganda
END:VEVENT
BEGIN:VEVENT
DTSTART;TZID=Africa/Kampala:20230507T080000
DTEND;TZID=Africa/Kampala:20230513T170000
DTSTAMP:20260423T185853
CREATED:20230504T100452Z
LAST-MODIFIED:20230504T100452Z
UID:5529-1683446400-1683997200@masakadiocese.org
SUMMARY:Omusomo gwa CANA mu Diocese
DESCRIPTION:
URL:https://masakadiocese.org/event/omusomo-gwa-cana-mu-diocese/
LOCATION:Kyamaganda Primary School\, P. O. Box 70\, Masaka\, Central Region\, 256\, Uganda
END:VEVENT
BEGIN:VEVENT
DTSTART;TZID=Africa/Kampala:20230507T080000
DTEND;TZID=Africa/Kampala:20230513T170000
DTSTAMP:20260423T185853
CREATED:20230504T100207Z
LAST-MODIFIED:20230504T113316Z
UID:5524-1683446400-1683997200@masakadiocese.org
SUMMARY:Priests Retreat at Bukalasa
DESCRIPTION:
URL:https://masakadiocese.org/event/priests-retreat-at-bukalasa/
LOCATION:Bukalasa Seminary\, P. O. Box 70\, Masaka\, Central Region\, 256\, Uganda
ATTACH;FMTTYPE=image/jpeg:https://masakadiocese.org/wp-content/uploads/2023/02/IMG_2480-scaled.jpg
END:VEVENT
BEGIN:VEVENT
DTSTART;VALUE=DATE:20230501
DTEND;VALUE=DATE:20230502
DTSTAMP:20260423T185853
CREATED:20230421T100215Z
LAST-MODIFIED:20230421T100626Z
UID:4582-1682899200-1682985599@masakadiocese.org
SUMMARY:ASSOCAP Meets the Bishop of Masaka Diocese
DESCRIPTION:The Catholic professionals born within Masaka or those who settled within Masaka Diocese will hold an annual general meeting under their umbrella body\, the Association of Catholic Professionals (ASSOCAP) on Monday May 1st 2023 with the Bishop of Masaka Diocese.
URL:https://masakadiocese.org/event/assocap-meets-the-bishop-of-masaka-diocese/
LOCATION:Sports Arena\, Kitovu\, Kitovu Hill\, Masaka City\, Central Region\, 256\, Uganda
END:VEVENT
BEGIN:VEVENT
DTSTART;TZID=Africa/Kampala:20230423T093000
DTEND;TZID=Africa/Kampala:20230423T160000
DTSTAMP:20260423T185853
CREATED:20230421T083837Z
LAST-MODIFIED:20230421T124337Z
UID:4563-1682242200-1682265600@masakadiocese.org
SUMMARY:Masaka - Kampala Community Mass
DESCRIPTION:The Masaka – Kampala Catholic Community will hold the second mass of the year at Bishop Ddungu Memorial Gardens in Nsambya\, Ggogonya on Sunday 23rd April 2023 starting with a procession of mass at 09:30 am. The main celebrant will be the Rt. Rev Bishop Serverus Jjumba\, the Ordinary of Masaka Diocese. Ntuusi Parish will lead in the animation of mass on that day.
URL:https://masakadiocese.org/event/masaka-kampala-community-quarterly-mass/
LOCATION:Bishop Ddungu Memorial Gardens\, Ggogonya\, Nsambya\, Kampala City\, Central Region\, 256\, Uganda
END:VEVENT
END:VCALENDAR